BEGIN:VCALENDAR
PRODID:-//Cornell Cooperative Extension of Franklin County//NONSGML Cornell Cooperative Extension of Franklin County Events//EN
X-ORIGINAL-URL:
VERSION:2.0
CALSCALE:GREGORIAN
METHOD:PUBLISH
BEGIN:VEVENT
METHOD: PUBLISH
X-MS-OLK-FORCEINSPECTOROPEN:TRUE
DTSTART:20260801T101000
DTEND:20260801T150300
SUMMARY:4-H Fair Project Judging
DTSTAMP:20110121T170000
LAST-MODIFIED:20260422T111156
CREATED:20260422T111156
SEQUENCE:0
TRANSP:TRANSPARENT
UID:32975
LOCATION:
URL:http://franklin.cce.cornell.edu/events/2026/08/01/4-h-fair-project-judging
DESCRIPTION:10:00 AM – 3:00 PM4-H Building, Fairgrounds Separate food project judging time TBDSign-up for a time slot!
CLASS:PUBLIC
CATEGORIES:
STATUS:CONFIRMED
END:VEVENT
END:VCALENDAR
n/a