BEGIN:VCALENDAR
PRODID:-//Cornell Cooperative Extension of Franklin County//NONSGML Cornell Cooperative Extension of Franklin County Events//EN
X-ORIGINAL-URL:
VERSION:2.0
CALSCALE:GREGORIAN
METHOD:PUBLISH
BEGIN:VEVENT
METHOD: PUBLISH
X-MS-OLK-FORCEINSPECTOROPEN:TRUE
DTSTART:20260706T170500
DTEND:20260706T190700
SUMMARY:4-H PAC Meeting &amp; Club Update Meeting
DTSTAMP:20110121T170000
LAST-MODIFIED:20260422T111120
CREATED:20260112T140204
SEQUENCE:0
TRANSP:TRANSPARENT
UID:32021
LOCATION:
URL:http://franklin.cce.cornell.edu/events/2026/07/06/4-h-pac-meeting-club-update-meeting
DESCRIPTION:4-H PAC Meeting at 5:00pmParents, volunteers, and community members are welcome! This meeting helps guide 4‑H programming and events—your voice and ideas matter.4-H Club Update Meeting at 6:00pmA valuable check‑in for club leaders and volunteers to receive updates, share ideas, and learn how the 4‑H office can continue supporting families and clubs. Meetings to be held at the Franklin County Courthouse,&amp;nbsp;
CLASS:PUBLIC
CATEGORIES:
STATUS:CONFIRMED
END:VEVENT
END:VCALENDAR
n/a