BEGIN:VCALENDAR
PRODID:-//Cornell Cooperative Extension of Franklin County//NONSGML Cornell Cooperative Extension of Franklin County Events//EN
X-ORIGINAL-URL:
VERSION:2.0
CALSCALE:GREGORIAN
METHOD:PUBLISH
BEGIN:VEVENT
METHOD: PUBLISH
X-MS-OLK-FORCEINSPECTOROPEN:TRUE
DTSTART:20260701T121200
DTEND:20260701T180600
SUMMARY:4-H Reminders! DUE JULY 1st
DTSTAMP:20110121T170000
LAST-MODIFIED:20260422T111123
CREATED:20250627T150323
SEQUENCE:0
TRANSP:TRANSPARENT
UID:30789
LOCATION:
URL:http://franklin.cce.cornell.edu/events/2026/07/01/4-h-reminders-due-july-1st
DESCRIPTION:&amp;nbsp;Awards Applications are due July 1stFind the applications here:&amp;nbsp;Achievement Program Details &amp; Applications Fair Entries are due July 1stForms can be found on our 4-H Fair page.&amp;nbsp;The 4-H office will be open from 12-6:pm to help with entries/applications.&amp;nbsp;No entries will be accepted after July 1st!
CLASS:PUBLIC
CATEGORIES:
STATUS:CONFIRMED
END:VEVENT
END:VCALENDAR
n/a